BEGIN:VCALENDAR
VERSION:2.0
CALSCALE:GREGORIAN
METHOD:PUBLISH
PRODID://HSTN//201940
BEGIN:VEVENT
DTSTAMP:20260421T093410
VTIMEZONE:America/Chicago
DTSTART:20251204T003000Z
DTEND:20251204T023000Z
UID:201940
SUMMARY:Impact100 Holiday Party
LOCATION:Good God, Nadine's, 33 Waugh Dr., Houston, Te, 77006
DESCRIPTION:Impact100 Holiday Party\n\n12/03/25 06:30 PM CST\n - 12/03/25 08:30 PM CST\Description:\nIt’s been a big year — and we’re ready to celebrate! Join your fellow Impact100 Houston members for a festive night out at Good God, Nadine’s, the cocktail bar everyone’s talking about. Your $25 ticket includes two drink tickets, great company, and plenty of holiday cheer. Our Impact elves will be sponsoring some delicious snacks! \n\nCome raise a glass, swap stories, and toast to the incredible impact we’ve made together this year.\n\nLet’s end the year on a high note. See you there!\n\Location:\nGood God, Nadine's\n33 Waugh Dr.\nHouston, Te 77006
X-ALT-DESC;FMTTYPE=text/html:Impact100 Holiday Party<br /><br />12/03/25 06:30 PM CST - 12/03/25 08:30 PM CST<br />Description:<br /><p data-end="504" data-start="227">It&rsquo;s been a big year &mdash; and we&rsquo;re ready to celebrate! Join your fellow Impact100 Houston members for a festive night out at&nbsp;<em data-end="370" data-start="350">Good God, Nadine&rsquo;s</em>, the cocktail bar everyone&rsquo;s talking about. Your $25 ticket includes two drink tickets, great company, and plenty of holiday cheer. Our Impact elves will be sponsoring some delicious snacks!&nbsp;</p>

<p data-end="607" data-start="506">Come raise a glass, swap stories, and toast to the incredible impact we&rsquo;ve made together this year.<br />
<br />
<strong data-end="666" data-start="612">Let&rsquo;s end the year on a high note.&nbsp;See you there!</strong></p>
<br />Location:<br />Good God, Nadine's<br />33 Waugh Dr.<br />Houston, Te 77006
PRIORITY:3
TRANSP:TRANSPARENT
BEGIN:VALARM
TRIGGER:-PT5M
ACTION:DISPLAY
DESCRIPTION:Reminder
END:VALARM
END:VEVENT
END:VCALENDAR
