BEGIN:VCALENDAR
VERSION:2.0
CALSCALE:GREGORIAN
METHOD:PUBLISH
PRODID://HSTN//203148
BEGIN:VEVENT
DTSTAMP:20260421T194113
VTIMEZONE:America/Chicago
DTSTART:20260130T003000Z
DTEND:20260130T023000Z
UID:203148
SUMMARY:Wine Down Mixer: Simone on Sunset
LOCATION:Simone on Sunset, 2418 Sunset Blvd, Houston, TX, 77005
DESCRIPTION:Wine Down Mixer: Simone on Sunset\n\n01/29/26 06:30 PM CST\n - 01/29/26 08:30 PM CST\Description:\nUncork the end of your week with good wine and great company! \n\nWine Down Mixer is a relaxed, drop-in evening for Impact100 Houston members, prospective members, and friends. Join us on January 29 to sip, mingle, and unwind with inspiring women from across our community while learning more about the next grant year ahead.\n\nWhether you’re already a member or just curious about Impact100 Houston, this is the perfect chance to learn about our mission, how membership works, and the collective impact we’re making throughout Houston.\n\nCome for the wine, stay for the conversation—and feel free to bring a friend.\n\nThis event is free, but please register so we know to save you a glass.\n\Location:\nSimone on Sunset\n2418 Sunset Blvd\nHouston, TX 77005
X-ALT-DESC;FMTTYPE=text/html:Wine Down Mixer: Simone on Sunset<br /><br />01/29/26 06:30 PM CST - 01/29/26 08:30 PM CST<br />Description:<br /><p data-end="338" data-start="0">Uncork the end of your week with good wine and great company!&nbsp;<br />
<br data-end="67" data-start="64" />
<strong data-end="86" data-start="67">Wine Down Mixer</strong>&nbsp;is a relaxed, drop-in evening for Impact100 Houston members, prospective members, and friends. Join us on&nbsp;<strong data-end="207" data-start="193">January 29</strong>&nbsp;to sip, mingle, and unwind with inspiring women from across our community while learning more about the next&nbsp;grant year ahead.</p>

<p data-end="548" data-start="340">Whether you&rsquo;re already a member or just curious about Impact100 Houston, this is the perfect chance to learn about our mission, how membership works, and the collective impact we&rsquo;re making throughout Houston.</p>

<p data-end="627" data-start="550">Come for the wine, stay for the conversation&mdash;and feel free to bring a friend.</p>

<p data-end="700" data-is-last-node="" data-is-only-node="" data-start="629">This event is free, but please register so we know to save you a glass.</p>
<br />Location:<br />Simone on Sunset<br />2418 Sunset Blvd<br />Houston, TX 77005
PRIORITY:3
TRANSP:TRANSPARENT
BEGIN:VALARM
TRIGGER:-PT5M
ACTION:DISPLAY
DESCRIPTION:Reminder
END:VALARM
END:VEVENT
END:VCALENDAR
