BEGIN:VCALENDAR
VERSION:2.0
CALSCALE:GREGORIAN
METHOD:PUBLISH
PRODID://HSTN//203487
BEGIN:VEVENT
DTSTAMP:20260421T100302
VTIMEZONE:America/Chicago
DTSTART:20260109T143000Z
DTEND:20260109T153000Z
UID:203487
SUMMARY:Coffee Connections: Pavon Coffee Den
LOCATION:Paven Coffee Den, 1216 W Clay St Ste 300, Houston, TX, 77019
DESCRIPTION:Coffee Connections: Pavon Coffee Den\n\n01/09/26 08:30 AM CST\n - 01/09/26 09:30 AM CST\Description:\nStart your Friday with good coffee and great company! Coffee Connections is a relaxed, drop-in gathering for Impact100 Houston members, prospective members, and friends. Join us at Pavon Coffee Den to kick off the weekend, meet fellow women in our community, and learn more about the exciting grant year ahead.\n\nWhether you're already an Impact100 member or simply curious about who we are, this is the perfect opportunity to hear about our mission, how membership works, and the impact we’re creating together across Houston.\n\nCome for the conversation, stay for the connection, and feel free to bring a friend!\n\nThis event is free, but please register to let us know you’re coming.\n\Location:\nPaven Coffee Den\n1216 W Clay St Ste 300\nHouston, TX 77019
X-ALT-DESC;FMTTYPE=text/html:Coffee Connections: Pavon Coffee Den<br /><br />01/09/26 08:30 AM CST - 01/09/26 09:30 AM CST<br />Description:<br /><p data-end="382" data-start="73">Start your Friday with good coffee and great company!&nbsp;<em data-end="147" data-start="127">Coffee Connections</em>&nbsp;is a relaxed, drop-in gathering for Impact100 Houston members, prospective members, and friends. Join us at Pavon Coffee Den to kick off the weekend, meet fellow women in our community, and learn more about the exciting grant year ahead.</p>

<p data-end="598" data-start="384">Whether you're already an Impact100 member or simply curious about who we are, this is the perfect opportunity to hear about our mission, how membership works, and the impact we&rsquo;re creating together across Houston.</p>

<p data-end="683" data-start="600">Come for the conversation, stay for the connection, and feel free to bring a friend!</p>

<p data-end="758" data-is-last-node="" data-is-only-node="" data-start="685"><strong data-end="758" data-is-last-node="" data-start="685">This event is free, but please register to let us know you&rsquo;re coming.</strong></p>
<br />Location:<br />Paven Coffee Den<br />1216 W Clay St Ste 300<br />Houston, TX 77019
PRIORITY:3
TRANSP:TRANSPARENT
BEGIN:VALARM
TRIGGER:-PT5M
ACTION:DISPLAY
DESCRIPTION:Reminder
END:VALARM
END:VEVENT
END:VCALENDAR
