BEGIN:VCALENDAR
VERSION:2.0
CALSCALE:GREGORIAN
METHOD:PUBLISH
PRODID://HSTN//206537
BEGIN:VEVENT
DTSTAMP:20260420T153344
VTIMEZONE:America/Chicago
DTSTART:20260213T010000Z
DTEND:20260213T030000Z
UID:206537
SUMMARY:Galentine's Day Celebration
LOCATION:Private Home in West University Place
DESCRIPTION:Galentine's Day Celebration\n\n02/12/26 07:00 PM CST\n - 02/12/26 09:00 PM CST\Description:\nCelebrate Galentine’s Day with Impact100 Houston!\n\nJoin us for a special evening honoring friendship, collaboration, and the power of women coming together to make an impact.\n\nThis Galentine’s Day gathering is the perfect chance to connect with fellow members, meet new faces, and introduce a friend to the Impact100 Houston community. We’ll enjoy great conversation, meaningful connections, and a fun, welcoming atmosphere, because doing good is even better together.\n\nThe event will be held at a private home in West U, with location details shared upon registration.\Location:\nPrivate Home in West University Place\n\n,
X-ALT-DESC;FMTTYPE=text/html:Galentine's Day Celebration<br /><br />02/12/26 07:00 PM CST - 02/12/26 09:00 PM CST<br />Description:<br /><strong data-end="180" data-start="127">Celebrate Galentine&rsquo;s Day with Impact100 Houston!</strong><br />
<br data-end="183" data-start="180" />
Join us for a special evening honoring friendship, collaboration, and the power of women coming together to make an impact.<br />
<br />
This Galentine&rsquo;s Day gathering is the perfect chance to connect with fellow members, meet new faces, and introduce a friend to the Impact100 Houston community. We&rsquo;ll enjoy great conversation, meaningful connections, and a fun, welcoming atmosphere, because doing good is even better together.<br />
<br />
The event will be held at a private home in West U, with location details shared upon registration.<br />Location:<br />Private Home in West University Place<br /><br />,  
PRIORITY:3
TRANSP:TRANSPARENT
BEGIN:VALARM
TRIGGER:-PT5M
ACTION:DISPLAY
DESCRIPTION:Reminder
END:VALARM
END:VEVENT
END:VCALENDAR
