BEGIN:VCALENDAR
VERSION:2.0
CALSCALE:GREGORIAN
METHOD:PUBLISH
PRODID://HSTN//210090
BEGIN:VEVENT
DTSTAMP:20260419T194053
VTIMEZONE:America/Chicago
DTSTART:20260416T223000Z
DTEND:20260417T013000Z
UID:210090
SUMMARY:Woods Project - Parent Night Volunteering
LOCATION:, 6005 Westview Dr, Houston, TX, 77055
DESCRIPTION:Woods Project - Parent Night Volunteering\n\n04/16/26 05:30 PM CST\n - 04/16/26 08:30 PM CST\Description:\nThe Woods Project takes high school students on summer camping trips and wilderness journeys in Colorado and other locations.\n\nOne important step in that process is the Parents Meeting, where families come together before the trips begin.\n\nWe'll help with wayfinding, directing parents and students to the auditorium, handling check-in, and distributing translation devices.\n\nAnyone that hasn't volunteered with the Woods Project before will need to complete the Event Volunteer Form to get added to their system as an approved volunteer. \Location:\n\n6005 Westview Dr\nHouston, TX 77055
X-ALT-DESC;FMTTYPE=text/html:Woods Project - Parent Night Volunteering<br /><br />04/16/26 05:30 PM CST - 04/16/26 08:30 PM CST<br />Description:<br />The Woods Project takes high school students on summer camping trips and wilderness journeys in Colorado and other locations.<br />
<br />
One important step in that process is the Parents Meeting, where families come together before the trips begin.<br />
<br />
We'll help with wayfinding, directing parents and students to the auditorium, handling check-in, and distributing translation devices.<br />
<br />
Anyone that hasn't volunteered with the Woods Project before will need to <a href="https://www.tfaforms.com/4951937">complete the Event Volunteer Form</a> to get added to their system as an approved volunteer.&nbsp;<br />Location:<br /><br />6005 Westview Dr<br />Houston, TX 77055
PRIORITY:3
TRANSP:TRANSPARENT
BEGIN:VALARM
TRIGGER:-PT5M
ACTION:DISPLAY
DESCRIPTION:Reminder
END:VALARM
END:VEVENT
END:VCALENDAR
